BEGIN:VCALENDAR
VERSION:2.0
PRODID:-//Tukios.com/
BEGIN:VEVENT
UID:eaf17e93-bd68-4025-a452-db027077e82a@www.snyderfuneralhome.com
DTSTAMP:20260422T232002Z
DTSTART:20260428T150000Z
DTEND:20260428T160000Z
SUMMARY:Celebration of Life
DESCRIPTION:
URL:https://www.snyderfuneralhome.com/obituaries/virginia-ginny-dissinger-sipe
LOCATION: 8 Church Square  Lititz PA 17543
GEO:40.1552199;-76.3029759
END:VEVENT
END:VCALENDAR