BEGIN:VCALENDAR
VERSION:2.0
PRODID:-//Tukios.com/
BEGIN:VEVENT
UID:f6cdbd0e-e7b5-4def-bc12-64ec488ec78b@www.snyderfuneralhome.com
DTSTAMP:20260421T003135Z
DTSTART:20260502T170000Z
DTEND:20260502T180000Z
SUMMARY:Memorial Service
DESCRIPTION:
URL:https://www.snyderfuneralhome.com/obituaries/sydney-walden
LOCATION:St. John’s Episcopal Church 321 West Chestnut Street  
	Lancaster PA 17603
GEO:40.0407635;-76.3120312
END:VEVENT
END:VCALENDAR