BEGIN:VCALENDAR
VERSION:2.0
PRODID:-//Tukios.com/
BEGIN:VEVENT
UID:55766c15-37c0-4083-b1a2-f9f787900134@www.snyderfuneralhome.com
DTSTAMP:20260425T013745Z
DTSTART:20260427T160000Z
DTEND:20260427T170000Z
SUMMARY:Public Viewing
DESCRIPTION:
URL:https://www.snyderfuneralhome.com/obituaries/shirley-leed
LOCATION:Spacht-Snyder Family Funeral Home & Crematory Inc. - Lititz 
	Broad 127 S. Broad St.  Lititz Pike PA 17543
GEO:40.1544134;-76.3068471
END:VEVENT
END:VCALENDAR