BEGIN:VCALENDAR
VERSION:2.0
PRODID:-//Tukios.com/
BEGIN:VEVENT
UID:03b5f5ac-eb76-4671-95d6-7ee478a5300d@www.snyderfuneralhome.com
DTSTAMP:20260425T013845Z
DTSTART:20260427T170000Z
DTEND:20260427T180000Z
SUMMARY:Funeral Service
DESCRIPTION:
URL:https://www.snyderfuneralhome.com/obituaries/shirley-leed
LOCATION:Spacht-Snyder Family Funeral Home & Crematory Inc. - Lititz 
	Broad 127 S. Broad St.  Lititz Pike PA 17543
GEO:40.1544134;-76.3068471
END:VEVENT
END:VCALENDAR