BEGIN:VCALENDAR
VERSION:2.0
PRODID:-//Tukios.com/
BEGIN:VEVENT
UID:8b6edc3d-aa99-416e-9b56-ceb4a0e5e6c2@www.snyderfuneralhome.com
DTSTAMP:20260425T220549Z
DTSTART:20260429T190000Z
DTEND:20260429T200000Z
SUMMARY:Viewing
DESCRIPTION:
URL:https://www.snyderfuneralhome.com/obituaries/raymond-vasile
LOCATION:Charles F. Snyder Funeral Home & Crematory Inc. 441 North George 
	Street  Millersville PA 17551
GEO:40.0065713;-76.3583112
END:VEVENT
END:VCALENDAR