BEGIN:VCALENDAR
VERSION:2.0
PRODID:-//Tukios.com/
BEGIN:VEVENT
UID:9808ef79-099e-4ddc-89db-b17fcf18ea3d@www.snyderfuneralhome.com
DTSTAMP:20260425T003846Z
DTSTART:20260429T150000Z
DTEND:20260429T160000Z
SUMMARY:Funeral Service
DESCRIPTION:
URL:https://www.snyderfuneralhome.com/obituaries/orlena-felpel
LOCATION: 501 West Lincoln Avenue  Lititz PA 17543
GEO:40.167461;-76.3185477
END:VEVENT
END:VCALENDAR