BEGIN:VCALENDAR
VERSION:2.0
PRODID:-//Tukios.com/
BEGIN:VEVENT
UID:38c84641-871c-4010-94c3-9ef57edd278e@www.snyderfuneralhome.com
DTSTAMP:20260420T082132Z
DTSTART:20260509T180000Z
DTEND:20260509T190000Z
SUMMARY:Celebration of Life
DESCRIPTION:
URL:https://www.snyderfuneralhome.com/obituaries/marlene-dove
LOCATION:Mount Hope Nazarene Retirement Community 3026 Mount Hope Home 
	Road  Manheim PA 17545
GEO:40.2072735;-76.4668397
END:VEVENT
END:VCALENDAR