BEGIN:VCALENDAR
VERSION:2.0
PRODID:-//Tukios.com/
BEGIN:VEVENT
UID:1a89b555-d017-4fe0-b4a7-bf09f22cbe6a@www.snyderfuneralhome.com
DTSTAMP:20260423T175852Z
DTSTART:20260530T150000Z
DTEND:20260530T160000Z
SUMMARY:Memorial Service
DESCRIPTION:
URL:https://www.snyderfuneralhome.com/obituaries/linda-stuver
LOCATION:Lutheran Church of the Good Shepherd 750 Greenfield Rd  
	Lancaster PA 17601
GEO:40.0582765;-76.2491748
END:VEVENT
END:VCALENDAR