BEGIN:VCALENDAR
VERSION:2.0
PRODID:-//Tukios.com/
BEGIN:VEVENT
UID:5c98c22f-b951-412d-8369-4d6946d8e751@www.snyderfuneralhome.com
DTSTAMP:20260425T202058Z
DTSTART:20260427T230000Z
DTEND:20260427T233000Z
SUMMARY:Prayer Service
DESCRIPTION:
URL:https://www.snyderfuneralhome.com/obituaries/linda-philbin
LOCATION: 3110 Lititz Pike  Lititz PA 17543
GEO:40.1119728;-76.3061043
END:VEVENT
END:VCALENDAR