BEGIN:VCALENDAR
VERSION:2.0
PRODID:-//Tukios.com/
BEGIN:VEVENT
UID:c40c030a-2531-4323-add6-7ae5e70de96a@www.snyderfuneralhome.com
DTSTAMP:20260425T202013Z
DTSTART:20260430T130000Z
DTEND:20260430T140000Z
SUMMARY:Viewing
DESCRIPTION:
URL:https://www.snyderfuneralhome.com/obituaries/linda-philbin
LOCATION:Holy Rosary Church 316 William Street  Scranton PA 18508
GEO:41.4408069;-75.6575841
END:VEVENT
END:VCALENDAR