BEGIN:VCALENDAR
VERSION:2.0
PRODID:-//Tukios.com/
BEGIN:VEVENT
UID:b9a8e4ca-c971-40bc-b8aa-15c2f9c8a708@www.snyderfuneralhome.com
DTSTAMP:20260425T201936Z
DTSTART:20260427T210000Z
DTEND:20260427T230000Z
SUMMARY:Viewing
DESCRIPTION:
URL:https://www.snyderfuneralhome.com/obituaries/linda-philbin
LOCATION: 3110 Lititz Pike  Lititz PA 17543
GEO:40.1119728;-76.3061043
END:VEVENT
END:VCALENDAR