BEGIN:VCALENDAR
VERSION:2.0
PRODID:-//Tukios.com/
BEGIN:VEVENT
UID:985ca55a-6547-4db6-94ee-7fa72b00a255@www.snyderfuneralhome.com
DTSTAMP:20260419T204347Z
DTSTART:20260421T163000Z
DTEND:20260421T170000Z
SUMMARY:Graveside Service
DESCRIPTION:
URL:https://www.snyderfuneralhome.com/obituaries/kenneth-kramer
LOCATION: 95 Second Lock Road  Lancaster PA 17603
GEO:40.0099089;-76.3123665
END:VEVENT
END:VCALENDAR