BEGIN:VCALENDAR
VERSION:2.0
PRODID:-//Tukios.com/
BEGIN:VEVENT
UID:3a9b2084-4983-4446-b844-bba4ac3cc6bb@www.snyderfuneralhome.com
DTSTAMP:20260419T204104Z
DTSTART:20260421T150000Z
DTEND:20260421T160000Z
SUMMARY:Celebration of Life
DESCRIPTION:
URL:https://www.snyderfuneralhome.com/obituaries/kenneth-kramer
LOCATION: 441 N George St  Millersville PA 17551
GEO:40.0065713;-76.3583112
END:VEVENT
END:VCALENDAR