BEGIN:VCALENDAR
VERSION:2.0
PRODID:-//Tukios.com/
BEGIN:VEVENT
UID:1142b00f-292c-4805-856c-00d778818733@www.snyderfuneralhome.com
DTSTAMP:20260419T204311Z
DTSTART:20260421T130000Z
DTEND:20260421T150000Z
SUMMARY:Viewing
DESCRIPTION:
URL:https://www.snyderfuneralhome.com/obituaries/kenneth-kramer
LOCATION: 441 N George St  Millersville PA 17551
GEO:40.0065713;-76.3583112
END:VEVENT
END:VCALENDAR