BEGIN:VCALENDAR
VERSION:2.0
PRODID:-//Tukios.com/
BEGIN:VEVENT
UID:3c5c085f-3165-477d-8e61-5518a1d775b6@www.snyderfuneralhome.com
DTSTAMP:20260419T224611Z
DTSTART:20260511T180000Z
DTEND:20260511T200000Z
SUMMARY:Visitation
DESCRIPTION:
URL:https://www.snyderfuneralhome.com/obituaries/joseph-mitch-jr
LOCATION: 3110 Lititz Pike  Lititz PA 17543
GEO:40.1119728;-76.3061043
END:VEVENT
END:VCALENDAR