BEGIN:VCALENDAR
VERSION:2.0
PRODID:-//Tukios.com/
BEGIN:VEVENT
UID:3c5de369-7c6e-4ce9-9486-e7eecf638ef4@www.snyderfuneralhome.com
DTSTAMP:20260419T224941Z
DTSTART:20260511T200000Z
DTEND:20260511T210000Z
SUMMARY:Memorial Service
DESCRIPTION:
URL:https://www.snyderfuneralhome.com/obituaries/joseph-mitch-jr
LOCATION: 3110 Lititz Pike  Lititz PA 17543
GEO:40.1119728;-76.3061043
END:VEVENT
END:VCALENDAR