BEGIN:VCALENDAR
VERSION:2.0
PRODID:-//Tukios.com/
BEGIN:VEVENT
UID:f3391c28-9634-43d8-91e9-e58d2c0c9bae@www.snyderfuneralhome.com
DTSTAMP:20260425T164638Z
DTSTART:20260504T180000Z
DTEND:20260504T190000Z
SUMMARY:Celebration of Life
DESCRIPTION:
URL:https://www.snyderfuneralhome.com/obituaries/jacob-rosenthal
LOCATION:The Delaware Contemporary 200 South Madison Street  Wilmington 
	DE 19801
GEO:39.738342;-75.5602062
END:VEVENT
END:VCALENDAR