BEGIN:VCALENDAR
VERSION:2.0
PRODID:-//Tukios.com/
BEGIN:VEVENT
UID:87078608-3652-4d3f-a1ee-8b3083607758@www.snyderfuneralhome.com
DTSTAMP:20260422T050455Z
DTSTART:20260507T180000Z
DTEND:20260507T190000Z
SUMMARY:Celebration of Life
DESCRIPTION:
URL:https://www.snyderfuneralhome.com/obituaries/ingrid-ruoff
LOCATION:Christianson Room 400 Saint Mark Avenue  Lititz PA 17543
GEO:40.1524309;-76.2883512
END:VEVENT
END:VCALENDAR