BEGIN:VCALENDAR
VERSION:2.0
PRODID:-//Tukios.com/
BEGIN:VEVENT
UID:5fe2e158-cdcd-4b8b-a403-74703ad74766@www.snyderfuneralhome.com
DTSTAMP:20260424T050421Z
DTSTART:20260428T150000Z
DTEND:20260428T160000Z
SUMMARY:Funeral Service
DESCRIPTION:
URL:https://www.snyderfuneralhome.com/obituaries/idalina-anavitate-santos
LOCATION: 701 N. Lime Street  Lancaster PA 17602
GEO:40.0495155;-76.3031122
END:VEVENT
END:VCALENDAR