BEGIN:VCALENDAR
VERSION:2.0
PRODID:-//Tukios.com/
BEGIN:VEVENT
UID:36d6e586-2065-438d-ac38-4ba7911afdf8@www.snyderfuneralhome.com
DTSTAMP:20260424T050612Z
DTSTART:20260428T140000Z
DTEND:20260428T150000Z
SUMMARY:Viewing
DESCRIPTION:
URL:https://www.snyderfuneralhome.com/obituaries/idalina-anavitate-santos
LOCATION:Iglesia Divino Manantial 701 N. Lime Street  Lancaster PA 17602
GEO:40.0495155;-76.3031122
END:VEVENT
END:VCALENDAR