BEGIN:VCALENDAR
VERSION:2.0
PRODID:-//Tukios.com/
BEGIN:VEVENT
UID:42dfa3bc-763f-4cbe-a89d-981902cbd5fd@www.snyderfuneralhome.com
DTSTAMP:20260424T050739Z
DTSTART:20260427T220000Z
DTEND:20260428T000000Z
SUMMARY:Viewing
DESCRIPTION:
URL:https://www.snyderfuneralhome.com/obituaries/idalina-anavitate-santos
LOCATION: 2421 Willow Street Pike  Willow Street PA 17584
GEO:39.9910907;-76.2845527
END:VEVENT
END:VCALENDAR