BEGIN:VCALENDAR
VERSION:2.0
PRODID:-//Tukios.com/
BEGIN:VEVENT
UID:e78061fa-ff93-425d-8cb0-e0ef02557667@www.snyderfuneralhome.com
DTSTAMP:20260421T235224Z
DTSTART:20260424T140000Z
DTEND:20260424T150000Z
SUMMARY:Visitation
DESCRIPTION:
URL:https://www.snyderfuneralhome.com/obituaries/gloria-degler
LOCATION:Charles F. Snyder III Funeral Home & Crematory 2421 Willow 
	Street Pike  Willow Street PA 17584
GEO:39.9910907;-76.2845527
END:VEVENT
END:VCALENDAR