BEGIN:VCALENDAR
VERSION:2.0
PRODID:-//Tukios.com/
BEGIN:VEVENT
UID:b858d17a-fde2-43b4-8615-40996b0e8dd2@www.snyderfuneralhome.com
DTSTAMP:20260421T234648Z
DTSTART:20260424T150000Z
DTEND:20260424T160000Z
SUMMARY:Funeral Service
DESCRIPTION:
URL:https://www.snyderfuneralhome.com/obituaries/gloria-degler
LOCATION:Charles F. Snyder III Funeral Home & Crematory 2421 Willow 
	Street Pike  Willow Street PA 17584
GEO:39.9910907;-76.2845527
END:VEVENT
END:VCALENDAR