BEGIN:VCALENDAR
VERSION:2.0
PRODID:-//Tukios.com/
BEGIN:VEVENT
UID:649465f8-6dd4-4e31-8e3d-0890439e6371@www.snyderfuneralhome.com
DTSTAMP:20260421T235003Z
DTSTART:20260430T220000Z
DTEND:20260501T000000Z
SUMMARY:Visitation
DESCRIPTION:
URL:https://www.snyderfuneralhome.com/obituaries/georgine-brown-gant
LOCATION:Charles F. Snyder III Funeral Home & Crematory 2421 Willow 
	Street Pike  Willow Street PA 17584
GEO:39.9910907;-76.2845527
END:VEVENT
END:VCALENDAR