BEGIN:VCALENDAR
VERSION:2.0
PRODID:-//Tukios.com/
BEGIN:VEVENT
UID:ef361129-7a57-4608-be01-78f2379e1840@www.snyderfuneralhome.com
DTSTAMP:20260421T235353Z
DTSTART:20260501T150000Z
DTEND:20260501T160000Z
SUMMARY:Funeral Service
DESCRIPTION:
URL:https://www.snyderfuneralhome.com/obituaries/georgine-brown-gant
LOCATION:Charles F. Snyder III Funeral Home & Crematory 2421 Willow 
	Street Pike  Willow Street PA 17584
GEO:39.9910907;-76.2845527
END:VEVENT
END:VCALENDAR