BEGIN:VCALENDAR
VERSION:2.0
PRODID:-//Tukios.com/
BEGIN:VEVENT
UID:f1bb68b2-ccac-4ac5-b30c-f80c87bdc029@www.snyderfuneralhome.com
DTSTAMP:20260421T235056Z
DTSTART:20260501T140000Z
DTEND:20260501T150000Z
SUMMARY:Visitation
DESCRIPTION:
URL:https://www.snyderfuneralhome.com/obituaries/georgine-brown-gant
LOCATION: 2421 Willow Street Pike  Willow Street PA 17584
GEO:39.9910907;-76.2845527
END:VEVENT
END:VCALENDAR