BEGIN:VCALENDAR
VERSION:2.0
PRODID:-//Tukios.com/
BEGIN:VEVENT
UID:d5627231-b774-41be-9da7-fc2e426a347a@www.snyderfuneralhome.com
DTSTAMP:20260419T162051Z
DTSTART:20260424T140000Z
DTEND:20260424T150000Z
SUMMARY:Interment
DESCRIPTION:
URL:https://www.snyderfuneralhome.com/obituaries/gary-burkholder
LOCATION:Bridgeville Cemetery Division Highway  Narvon PA 17555
GEO:40.1096655;-75.9646056
END:VEVENT
END:VCALENDAR