BEGIN:VCALENDAR
VERSION:2.0
PRODID:-//Tukios.com/
BEGIN:VEVENT
UID:900433c5-4b6f-4e95-b2d9-31757fe57eb5@www.snyderfuneralhome.com
DTSTAMP:20260419T161436Z
DTSTART:20260423T230000Z
DTEND:20260424T000000Z
SUMMARY:Funeral Service
DESCRIPTION:
URL:https://www.snyderfuneralhome.com/obituaries/gary-burkholder
LOCATION:Charles F. Snyder Jr. Funeral Home & Crematory 3110 Lititz Pike  
	Lititz PA 17543
GEO:40.1119728;-76.3061043
END:VEVENT
END:VCALENDAR