BEGIN:VCALENDAR
VERSION:2.0
PRODID:-//Tukios.com/
BEGIN:VEVENT
UID:b5962a5d-2537-41a8-b920-7f44ecfec427@www.snyderfuneralhome.com
DTSTAMP:20260419T162433Z
DTSTART:20260423T210000Z
DTEND:20260423T230000Z
SUMMARY:Viewing
DESCRIPTION:
URL:https://www.snyderfuneralhome.com/obituaries/gary-burkholder
LOCATION:Charles F. Snyder Jr. Funeral Home & Crematory 3110 Lititz Pike  
	Lititz PA 17543
GEO:40.1119728;-76.3061043
END:VEVENT
END:VCALENDAR