BEGIN:VCALENDAR
VERSION:2.0
PRODID:-//Tukios.com/
BEGIN:VEVENT
UID:f604cae2-a5f3-422c-9b9b-6e9143cf85f9@www.snyderfuneralhome.com
DTSTAMP:20260421T234920Z
DTSTART:20260425T150000Z
DTEND:20260425T160000Z
SUMMARY:Mass
DESCRIPTION:
URL:https://www.snyderfuneralhome.com/obituaries/erin-conway
LOCATION:St. Leo the Great Catholic Church 2427 Marietta Avenue  
	Lancaster PA 17601
GEO:40.055936;-76.366176
END:VEVENT
END:VCALENDAR