BEGIN:VCALENDAR
VERSION:2.0
PRODID:-//Tukios.com/
BEGIN:VEVENT
UID:6e6f3d1f-5d6b-4fe4-98eb-200a807d6b88@www.snyderfuneralhome.com
DTSTAMP:20260421T235036Z
DTSTART:20260425T140000Z
DTEND:20260425T150000Z
SUMMARY:Visitation
DESCRIPTION:
URL:https://www.snyderfuneralhome.com/obituaries/erin-conway
LOCATION: 2427 Marietta Avenue  Lancaster PA 17601
GEO:40.055936;-76.366176
END:VEVENT
END:VCALENDAR