BEGIN:VCALENDAR
VERSION:2.0
PRODID:-//Tukios.com/
BEGIN:VEVENT
UID:29164f33-2b08-49f5-8a79-ba5f056f421e@www.snyderfuneralhome.com
DTSTAMP:20260421T184225Z
DTSTART:20260430T150000Z
DTEND:20260430T160000Z
SUMMARY:Mass
DESCRIPTION:
URL:https://www.snyderfuneralhome.com/obituaries/eleanore-granieri
LOCATION:St. Leo the Great Catholic Church 2427 Marietta Avenue  
	Lancaster PA 17601
GEO:40.055936;-76.366176
END:VEVENT
END:VCALENDAR