BEGIN:VCALENDAR
VERSION:2.0
PRODID:-//Tukios.com/
BEGIN:VEVENT
UID:2a0a777a-b9f5-4e42-aab6-c4a3737c1afb@www.snyderfuneralhome.com
DTSTAMP:20260421T183859Z
DTSTART:20260430T140000Z
DTEND:20260430T150000Z
SUMMARY:Visitation
DESCRIPTION:
URL:https://www.snyderfuneralhome.com/obituaries/eleanore-granieri
LOCATION:St. Leo the Great Catholic Church 2427 Marietta Avenue  
	Lancaster PA 17601
GEO:40.055936;-76.366176
END:VEVENT
END:VCALENDAR