BEGIN:VCALENDAR
VERSION:2.0
PRODID:-//Tukios.com/
BEGIN:VEVENT
UID:4eb53c1b-d481-4600-9e2b-b183e2eb1fbd@www.snyderfuneralhome.com
DTSTAMP:20260421T183644Z
DTSTART:20260529T140000Z
DTEND:20260529T150000Z
SUMMARY:Memorial Service
DESCRIPTION:
URL:https://www.snyderfuneralhome.com/obituaries/dorothy-gerhard
LOCATION:Westminster Presbyterian Church 2151 Oregon Pike  Lancaster PA 
	17601
GEO:40.0826341;-76.2897522
END:VEVENT
END:VCALENDAR