BEGIN:VCALENDAR
VERSION:2.0
PRODID:-//Tukios.com/
BEGIN:VEVENT
UID:0fa63010-1a54-4871-b4fd-bf41000fa40e@www.snyderfuneralhome.com
DTSTAMP:20260421T183457Z
DTSTART:20260529T130000Z
DTEND:20260529T140000Z
SUMMARY:Visitation
DESCRIPTION:
URL:https://www.snyderfuneralhome.com/obituaries/dorothy-gerhard
LOCATION:Westminster Presbyterian Church 2151 Oregon Pike  Lancaster PA 
	17601
GEO:40.0826341;-76.2897522
END:VEVENT
END:VCALENDAR