BEGIN:VCALENDAR
VERSION:2.0
PRODID:-//Tukios.com/
BEGIN:VEVENT
UID:fa15ac21-08b6-4847-bec1-307bd1c8f216@www.snyderfuneralhome.com
DTSTAMP:20260424T142613Z
DTSTART:20260424T180000Z
DTEND:20260424T200000Z
SUMMARY:Visitation
DESCRIPTION:
URL:https://www.snyderfuneralhome.com/obituaries/donald-baxter
LOCATION:Charles F. Snyder Funeral Home & Crematory Inc. - Lancaster 414 
	E. King St.  Lancaster PA 17602
GEO:40.0386976;-76.2965581
END:VEVENT
END:VCALENDAR