BEGIN:VCALENDAR
VERSION:2.0
PRODID:-//Tukios.com/
BEGIN:VEVENT
UID:4e00a6b8-8536-4f5b-8b36-ede1fc1f5245@www.snyderfuneralhome.com
DTSTAMP:20260422T211644Z
DTSTART:20260427T140000Z
DTEND:20260427T150000Z
SUMMARY:Visitation
DESCRIPTION:
URL:https://www.snyderfuneralhome.com/obituaries/darlene-smeltzer
LOCATION:Charles F. Snyder Jr. Funeral Home & Crematory 3110 Lititz Pike  
	Lititz PA 17543
GEO:40.1119728;-76.3061043
END:VEVENT
END:VCALENDAR