BEGIN:VCALENDAR
VERSION:2.0
PRODID:-//Tukios.com/
BEGIN:VEVENT
UID:fb194164-a79a-4466-88bd-c179eafa56c2@www.snyderfuneralhome.com
DTSTAMP:20260422T211918Z
DTSTART:20260427T150000Z
DTEND:20260427T160000Z
SUMMARY:Funeral Service
DESCRIPTION:
URL:https://www.snyderfuneralhome.com/obituaries/darlene-smeltzer
LOCATION:Charles F. Snyder Jr. Funeral Home & Crematory 3110 Lititz Pike  
	Lititz PA 17543
GEO:40.1119728;-76.3061043
END:VEVENT
END:VCALENDAR