BEGIN:VCALENDAR
VERSION:2.0
PRODID:-//Tukios.com/
BEGIN:VEVENT
UID:a471050e-f04f-4ead-942f-a5c8fc53f485@www.snyderfuneralhome.com
DTSTAMP:20260422T211043Z
DTSTART:20260424T160000Z
DTEND:20260424T200000Z
SUMMARY:Burial
DESCRIPTION:
URL:https://www.snyderfuneralhome.com/obituaries/burnetta-fry
LOCATION:Long Memorial United Methodist Church Cemetery 2660 Lititz Pike  
	Lititz PA 17543
GEO:40.1208401;-76.3068434
END:VEVENT
END:VCALENDAR