BEGIN:VCALENDAR
VERSION:2.0
PRODID:-//Tukios.com/
BEGIN:VEVENT
UID:e30600e9-e6b2-48d6-8963-7ee33c761846@www.snyderfuneralhome.com
DTSTAMP:20260426T013232Z
DTSTART:20260429T140000Z
DTEND:20260429T150000Z
SUMMARY:Visitation
DESCRIPTION:
URL:https://www.snyderfuneralhome.com/obituaries/bonnie-karlip
LOCATION:Charles F. Snyder Jr. Funeral Home & Crematory 3110 Lititz Pike  
	Lititz PA 17543
GEO:40.1119728;-76.3061043
END:VEVENT
END:VCALENDAR