BEGIN:VCALENDAR
VERSION:2.0
PRODID:-//Tukios.com/
BEGIN:VEVENT
UID:a6d01498-4da1-46f7-8ffa-8eb3abf226bc@www.snyderfuneralhome.com
DTSTAMP:20260426T013422Z
DTSTART:20260429T150000Z
DTEND:20260429T160000Z
SUMMARY:Memorial Service
DESCRIPTION:
URL:https://www.snyderfuneralhome.com/obituaries/bonnie-karlip
LOCATION:Charles F. Snyder Jr. Funeral Home & Crematory 3110 Lititz Pike  
	Lititz PA 17543
GEO:40.1119728;-76.3061043
END:VEVENT
END:VCALENDAR